BEGIN:VCALENDAR
VERSION:2.0
PRODID:-//York Scouts - ECPv6.15.20//NONSGML v1.0//EN
CALSCALE:GREGORIAN
METHOD:PUBLISH
X-WR-CALNAME:York Scouts
X-ORIGINAL-URL:https://yorkscouts.org.uk
X-WR-CALDESC:Events for York Scouts
REFRESH-INTERVAL;VALUE=DURATION:PT1H
X-Robots-Tag:noindex
X-PUBLISHED-TTL:PT1H
BEGIN:VTIMEZONE
TZID:UTC
BEGIN:STANDARD
TZOFFSETFROM:+0000
TZOFFSETTO:+0000
TZNAME:UTC
DTSTART:20250101T000000
END:STANDARD
END:VTIMEZONE
BEGIN:VEVENT
DTSTART;VALUE=DATE:20261017
DTEND;VALUE=DATE:20261019
DTSTAMP:20260426T024412
CREATED:20260314T161820Z
LAST-MODIFIED:20260314T161858Z
UID:839-1792195200-1792367999@yorkscouts.org.uk
SUMMARY:Jamboree on the Air and Internet
DESCRIPTION:Jamboree on the Internet is an annual event for people in Scouting worldwide. It involves communicating with Scouts around the world via the internet.  You can look up http://jotajoti.info/ for more information. We will be setting up some local base stations to enable York Scouts to join in.
URL:https://yorkscouts.org.uk/event/jamboree-on-the-air-internet/
CATEGORIES:Scouts
ATTACH;FMTTYPE=image/jpeg:https://yorkscouts.org.uk/wp-content/uploads/2026/03/JOTA-JOTI-Image.jpg
END:VEVENT
END:VCALENDAR