BEGIN:VCALENDAR
VERSION:2.0
PRODID:-//York Scouts - ECPv6.15.20//NONSGML v1.0//EN
CALSCALE:GREGORIAN
METHOD:PUBLISH
X-ORIGINAL-URL:https://yorkscouts.org.uk
X-WR-CALDESC:Events for York Scouts
REFRESH-INTERVAL;VALUE=DURATION:PT1H
X-Robots-Tag:noindex
X-PUBLISHED-TTL:PT1H
BEGIN:VTIMEZONE
TZID:UTC
BEGIN:STANDARD
TZOFFSETFROM:+0000
TZOFFSETTO:+0000
TZNAME:UTC
DTSTART:20250101T000000
END:STANDARD
END:VTIMEZONE
BEGIN:VEVENT
DTSTART;VALUE=DATE:20260516
DTEND;VALUE=DATE:20260518
DTSTAMP:20260425T203153
CREATED:20260205T144346Z
LAST-MODIFIED:20260314T163117Z
UID:427-1778889600-1779062399@yorkscouts.org.uk
SUMMARY:Scouts Ashes Challenge 2026
DESCRIPTION:Scouts learn and develop outdoor survival skills and then compete with others in this 24 hour challenge. This includes fire lighting\, shelter building to sleep in overnight\, first aid\, knife and axe work.  Potentially also an opportunity for adult volunteers to develop their own practical skills\, whilst having fun with others. \nEach Troop can enter 2 teams of 4 Scouts (accompanied by at least 1 leader) by emailing Charlotte McCarthy before 26 April 2026.  The cost for the weekend will be £15 per Scout.  £10 is to be paid to the District to cover site costs\, materials and activities.  £5 should be kept by the leader for Scouts to use this budget to plan and prepare their food ingredients prior to the event and bring these with them.
URL:https://yorkscouts.org.uk/event/scouts-ashes-challenge-2026/
LOCATION:Snowball Plantation (York Scout Activity Centre)\, Common Ln\, Stockton on the Forest\, York\, North Yorkshire\, YO19 5XS\, United Kingdom
CATEGORIES:Adults,Scouts
ATTACH;FMTTYPE=image/jpeg:https://yorkscouts.org.uk/wp-content/uploads/2026/02/Outdoor-Shelter-1-1536x842-1.jpg
ORGANIZER;CN="Charlotte McCarthy":MAILTO:charlotte.mccarthy@yorkscouts.org.uk
END:VEVENT
BEGIN:VEVENT
DTSTART;VALUE=DATE:20260517
DTEND;VALUE=DATE:20260518
DTSTAMP:20260425T203153
CREATED:20260314T155240Z
LAST-MODIFIED:20260425T143414Z
UID:834-1778976000-1779062399@yorkscouts.org.uk
SUMMARY:Bellboating
DESCRIPTION:Great introduction to activities on the water and developing paddle skills\, and teamwork.  A bell boat is a large stable catamaran type craft approximately 9m long. Each boat takes 10 people and is steered by an experienced helm. \nThere are 4 Sessions 10am\, 11:30am\, 1:30pm and 3pm. Please arrive for course registration from no earlier than 15 mins before their session is due to start\, but no later than 5 mins before it starts. Please follow the links below to book directly with North Yorkshire County Scouts and make payment online. \nPLEASE NOTE: Non-swimmers must be accompanied by a competent adult\, who is prepared to go in the water if necessary\, and this will have to be considered when booking places as each such Adult will require a place to be booked. A Swimmer is classed as someone who can swim 50 meters unaided. \nTo book Session  A 10.00 to 11.15 – Bellboating at York Session A \nTo book Session B 11.30 to 12.45 – Bellboating at York Session B \nTo book Session C 13.30 to 14.45 – Bellboating at York Session C \nTo book Session D 15.00 to 16.15 – Bellboating at York Session D
URL:https://yorkscouts.org.uk/event/cubs-bellboating/
LOCATION:Blue Bridge\, 14 William Court\, York\, YO10 4NL\, United Kingdom
CATEGORIES:Cubs,Scouts
ATTACH;FMTTYPE=image/jpeg:https://yorkscouts.org.uk/wp-content/uploads/2026/03/Bellboating-2023.jpg
ORGANIZER;CN="County Events Team":MAILTO:events@nys.org.uk
END:VEVENT
END:VCALENDAR