BEGIN:VCALENDAR
VERSION:2.0
PRODID:-//York Scouts - ECPv6.15.20//NONSGML v1.0//EN
CALSCALE:GREGORIAN
METHOD:PUBLISH
X-ORIGINAL-URL:https://yorkscouts.org.uk
X-WR-CALDESC:Events for York Scouts
REFRESH-INTERVAL;VALUE=DURATION:PT1H
X-Robots-Tag:noindex
X-PUBLISHED-TTL:PT1H
BEGIN:VTIMEZONE
TZID:UTC
BEGIN:STANDARD
TZOFFSETFROM:+0000
TZOFFSETTO:+0000
TZNAME:UTC
DTSTART:20250101T000000
END:STANDARD
END:VTIMEZONE
BEGIN:VEVENT
DTSTART;TZID=UTC:20260328T093000
DTEND;TZID=UTC:20260328T150000
DTSTAMP:20260425T213236
CREATED:20260205T143408Z
LAST-MODIFIED:20260329T062902Z
UID:411-1774690200-1774710000@yorkscouts.org.uk
SUMMARY:Engineering Challenge 2026
DESCRIPTION:Join us for a day of hands-on engineering workshops for Scouts and Guides at the University of York on the Saturday 28th March 2026 (Physics Exhibition Centre). Explore different aspects of engineering across four interactive workshops: \n\nAudio engineering in a music technology workshop\nElectronics and mechanical engineering in a model car building challenge\nRobotics engineering making a robot arm\nCivil engineering with a bridge building challenge\n\nThis is an opportunity to work in teams\, develop your problem solving skills\, and learn more about what it means to be an engineer. Scouts will complete their Model Maker badge and Guides will complete two thirds of their Engineering badge.  Your Unit Leaders can source any badges earned after the event. \nScouts and Guides will rotate round the activities in groups. An adult needs to stay on site to be responsible for their young people\, and can also attend the workshops.  The day will run from 10am – 3pm\, with registration from 9.30am. Scouts\, Guides and Leaders will need to bring packed lunches. \nRegister by 28 February 2026 to have a team\, with nigel.white@yorkscouts.org.uk.  
URL:https://yorkscouts.org.uk/event/engineering-challenge-2026/
CATEGORIES:Scouts
ATTACH;FMTTYPE=image/jpeg:https://yorkscouts.org.uk/wp-content/uploads/2026/02/Eng-Finals-scaled-1-1536x917-1.jpg
ORGANIZER;CN="Nigel White":MAILTO:nigel.white@yorkscouts.org.uk
END:VEVENT
END:VCALENDAR