BEGIN:VCALENDAR
VERSION:2.0
PRODID:-//York Scouts - ECPv6.15.20//NONSGML v1.0//EN
CALSCALE:GREGORIAN
METHOD:PUBLISH
X-ORIGINAL-URL:https://yorkscouts.org.uk
X-WR-CALDESC:Events for York Scouts
REFRESH-INTERVAL;VALUE=DURATION:PT1H
X-Robots-Tag:noindex
X-PUBLISHED-TTL:PT1H
BEGIN:VTIMEZONE
TZID:UTC
BEGIN:STANDARD
TZOFFSETFROM:+0000
TZOFFSETTO:+0000
TZNAME:UTC
DTSTART:20250101T000000
END:STANDARD
END:VTIMEZONE
BEGIN:VEVENT
DTSTART;TZID=UTC:20261216T193000
DTEND;TZID=UTC:20261216T203000
DTSTAMP:20260426T041047
CREATED:20260206T162835Z
LAST-MODIFIED:20260404T200038Z
UID:503-1797449400-1797453000@yorkscouts.org.uk
SUMMARY:Carol Service 2026
DESCRIPTION:Candlelit service in the Grade I listed Holy Trinity Church\, Goodramgate. The invitation is to all Scouting and Girlguiding Leaders\, members\, and supporters in City of York District Scouts and the Girlguiding County of North Yorkshire South.  Family members are welcome. \nThe wonderful medieval\, atmospheric Church (now under the care of the Churches Conservation Trust) has no electricity and is unheated\, so come dressed appropriately and bring a torch or head torch to read the service sheet.  Following the service anyone interested can join us for a Christmas drink.
URL:https://yorkscouts.org.uk/event/carol-service-2026/
CATEGORIES:Adults,Cubs,Explorers,Scouts
ATTACH;FMTTYPE=image/jpeg:https://yorkscouts.org.uk/wp-content/uploads/2026/02/Carol-Service-Image.jpg
END:VEVENT
END:VCALENDAR