BEGIN:VCALENDAR
VERSION:2.0
PRODID:-//York Scouts - ECPv6.15.20//NONSGML v1.0//EN
CALSCALE:GREGORIAN
METHOD:PUBLISH
X-WR-CALNAME:York Scouts
X-ORIGINAL-URL:https://yorkscouts.org.uk
X-WR-CALDESC:Events for York Scouts
REFRESH-INTERVAL;VALUE=DURATION:PT1H
X-Robots-Tag:noindex
X-PUBLISHED-TTL:PT1H
BEGIN:VTIMEZONE
TZID:UTC
BEGIN:STANDARD
TZOFFSETFROM:+0000
TZOFFSETTO:+0000
TZNAME:UTC
DTSTART:20250101T000000
END:STANDARD
END:VTIMEZONE
BEGIN:VEVENT
DTSTART;VALUE=DATE:20260704
DTEND;VALUE=DATE:20260705
DTSTAMP:20260425T220445
CREATED:20260205T145337Z
LAST-MODIFIED:20260404T192733Z
UID:454-1783123200-1783209599@yorkscouts.org.uk
SUMMARY:Scouts Incident Challenge Hike
DESCRIPTION:Develop your navigational skills and have fun in the countryside with other Scouts and volunteers.
URL:https://yorkscouts.org.uk/event/scouts-challenge-hike/
CATEGORIES:Adults,Scouts
ATTACH;FMTTYPE=image/jpeg:https://yorkscouts.org.uk/wp-content/uploads/2026/02/74893017_10217116340954801_781046485746712576_n.jpg
ORGANIZER;CN="Charlotte McCarthy":MAILTO:charlotte.mccarthy@yorkscouts.org.uk
END:VEVENT
END:VCALENDAR